BEGIN:VCALENDAR
VERSION:2.0
PRODID:Campus Terres de l'Ebre
BEGIN:VEVENT
UID:69e8b41b9ac0f
DTSTART:20260424T150000Z
SEQUENCE:0
TRANSP:OPAQUE
DTEND:20260423T220000Z
URL:https://www.campusebre.urv.cat/ca/agenda/12136/jornada-de-portes-oberte
 s-al-campus-terres-de-l-ebre
LOCATION:Campus Terres de l’Ebre de la URV (Av. Remolins\, 13-15. Tortosa
 )
SUMMARY:Jornada de Portes Obertes al Campus Terres de l’Ebre
CLASS:PUBLIC
DESCRIPTION:Les Jornades de Portes Obertes són activitats d&#39\;orientaci
 ó universitària que serveixen per conèixer millor els graus que pots es
 tudiar a la URV i com és la universitat:\n\n\nEl professorat detallarà\,
  per exemple\, com s&#39\;organitzen els graus\, quines sortides professio
 nals tenen i quin tipus de pràctiques i mobilitats hi ha\n\n\n\nEls alumn
 es o exalumnes explicaran com és l&#39\;experiència d&#39\;estudiar a la
  URV\n\n\n\nÉs la millor ocasió per plantejar directament al professorat
  o estudiantat els dubtes que es tinguin i aclarir-los.\n\n\nAforament lim
 itat.\n\nRequereix inscripció prèvia.
DTSTAMP:20260422T114219Z
END:VEVENT
END:VCALENDAR